BEGIN:VCALENDAR
VERSION:2.0
PRODID:-//jEvents 2.0 for Joomla//EN
CALSCALE:GREGORIAN
METHOD:PUBLISH
BEGIN:VTIMEZONE
TZID:Europe/Berlin
END:VTIMEZONE
BEGIN:VEVENT
UID:aaba9d4f-5dfc-417b-a3be-e2a492c14040
CATEGORIES:Tischtennis 
CREATED:20240801T200759
SUMMARY:Sommerferien
DESCRIPTION:Sommerferien 2025 in Thüringen - Importiert von Ferienwiki.de
DTSTAMP:20260422T100901
DTSTART;TZID=Europe/Berlin;VALUE=DATE:20250628
DTEND;TZID=Europe/Berlin;VALUE=DATE:20250809
SEQUENCE:0
TRANSP:OPAQUE
END:VEVENT
END:VCALENDAR