BEGIN:VCALENDAR
VERSION:2.0
PRODID:-//jEvents 2.0 for Joomla//EN
CALSCALE:GREGORIAN
METHOD:PUBLISH
BEGIN:VTIMEZONE
TZID:Europe/Berlin
END:VTIMEZONE
BEGIN:VEVENT
UID:c6057e787908bf2b6698bd7c1906dc63
CATEGORIES:Verein 
CREATED:20240610T084249
SUMMARY:43. Vereinsfest & Handballturnier
LOCATION:Roda-Stadion\, Geraer Straße 63\, 07646 Stadtroda
DESCRIPTION:Ablauf: \n20.06.2025- Freitag ab 17:00 bis ca. 20:30 Uhr\nTSV-Volleyballtun
 ier Freizeitteams\n\nab ca. 21:00 Uhr - \n\n\n21.06.2024 - Samstag ab 10:00
  bis ca. 17:00 Uhr:\nKleinfeld-Handball-Pokalturnier für aktive Frauen-\nun
 d Männermannschaften sowie Freizeit- und\nAlte-Herren-Mannschaften \nab ca 
 21:00 Party-Rock am Stadion im großen Festzelt \n\n\n22.06.2024 - Sonntag a
 b 10:00 bis ca. 14:00 Uhr:\nab 10:00 Uhr - Kleinfeld-Handball-Pokalturnier 
 für Jugendmannschaften\nweiter: \n10:00 Gold/Silber/Bronze – Hol´ dir dein 
 Sportabzeichen\n10:00 Tischtennis - Wettbewerb – „Herr der Bälle“\n\n
X-ALT-DESC;FMTTYPE=text/html:<p><span style="text-decoration: underline;"><span class="_4n-j _3cht fsl">
 Ablauf: </span></span></p><p><span class="_4n-j _3cht fsl"><strong>20.06.20
 25- Freitag ab 17:00 bis ca. 20:30 Uhr</strong><br />TSV-Volleyballtunier F
 reizeitteams<br /></span></p><p><span class="_4n-j _3cht fsl">ab ca. 21:00 
 Uhr - <br /></span></p><p><span class="_4n-j _3cht fsl"></span></p><p><span
  class="_4n-j _3cht fsl"><strong>21.06.2024 - Samstag ab 10:00 bis ca. 17:0
 0 Uhr:</strong><br />Kleinfeld-Handball-Pokalturnier für aktive Frauen-<br 
 />und Männermannschaften sowie Freizeit- und<br />Alte-Herren-Mannschaften 
 </span></p><p><span class="_4n-j _3cht fsl"><span class="_4n-j _3cht fsl">a
 b ca </span>21:00 Party-Rock am Stadion im großen Festzelt <br /><br /></sp
 an></p><p><span class="_4n-j _3cht fsl"><strong>22.06.2024 - Sonntag ab 10:
 00 bis ca. 14:00 Uhr:</strong><br /></span>ab 10:00 Uhr - <span class="_4n-
 j _3cht fsl"><span class="_4n-j _3cht fsl">Kleinfeld-Handball-Pokalturnier 
 für Jugendmannschaften</span></span></p><p><span class="_4n-j _3cht fsl">we
 iter: </span></p><p><span class="_4n-j _3cht fsl">10:00 Gold/Silber/Bronze 
 – Hol´ dir dein Sportabzeichen<br />10:00 Tischtennis - Wettbewerb – „Herr 
 der Bälle“<br /></span></p>
DTSTAMP:20260422T125504
DTSTART;TZID=Europe/Berlin:20250620T170000
DTEND;TZID=Europe/Berlin:20250622T140000
SEQUENCE:0
TRANSP:OPAQUE
END:VEVENT
END:VCALENDAR